BEGIN:VCALENDAR
VERSION:2.0
PRODID:-//https://calenda-formation.labocleo.org
X-WR-CALNAME:Calenda
X-WR-TIMEZONE:Europe/Paris
CALSCALE:GREGORIAN
X-WR-CALDESC:The calendar for arts, humanities and social sciences
METHOD:PUBLISH
BEGIN:VEVENT
DTSTART;VALUE=DATE:20071110
DTEND;VALUE=DATE:20071111
UID:193836-20071110@calenda.revues.org
SUMMARY:La dénonciation
URL:https://calenda-formation.labocleo.org/193836
DESCRIPTION:Le but de cette demi-journée est d'envisager la dénonciation dans un sens large de mécanisme d'information et de signalement des délits\, à travers une approche comparative du phénomène\, aussi bien en ce qui concerne les périodes que les sociétés étud… @plus_info https://calenda-formation.labocleo.org/193836
LOCATION:Paris
END:VEVENT
END:VCALENDAR
