BEGIN:VCALENDAR
VERSION:2.0
PRODID:-//https://calenda-formation.labocleo.org
X-WR-CALNAME:Calenda
X-WR-TIMEZONE:Europe/Paris
CALSCALE:GREGORIAN
X-WR-CALDESC:The calendar for arts, humanities and social sciences
METHOD:PUBLISH
BEGIN:VEVENT
DTSTART;VALUE=DATE:20071211
DTEND;VALUE=DATE:20071212
UID:193892-20071211@calenda.revues.org
SUMMARY:Radicalisme religieux et pratiques d’écriture (1650-1700)
URL:https://calenda-formation.labocleo.org/193892
DESCRIPTION:Cette journée d'étude organisée par le GRIHL (Groupe de recherches interdisciplinaires sur l'histoire du littéraire)  vise à analyser les rapports entre pratiques d’écriture et  pratiques religieuses pendant la deuxième moitié du XVIIe siècle\, en étu… @plus_info https://calenda-formation.labocleo.org/193892
LOCATION:Paris
END:VEVENT
END:VCALENDAR
