BEGIN:VCALENDAR
VERSION:2.0
PRODID:-//https://calenda-formation.labocleo.org
X-WR-CALNAME:Calenda
X-WR-TIMEZONE:Europe/Paris
CALSCALE:GREGORIAN
X-WR-CALDESC:The calendar for arts, humanities and social sciences
METHOD:PUBLISH
BEGIN:VEVENT
DTSTART;VALUE=DATE:20071220
DTEND;VALUE=DATE:20071221
UID:194021-20071220@calenda.revues.org
SUMMARY:Episcopatus : politique\, rhétorique et théologie d’une fonction ecclésiastique (XVIe-XVIIe siècles)
URL:https://calenda-formation.labocleo.org/194021
DESCRIPTION:Conférences sur les théories européennes de l'épiscopat\, du XVIe au XVIIe siècles. Si les textes théoriques et canoniques seront privilégiées\, d'autres types de sources (notamment les panégyriques) seront abordées.… @plus_info https://calenda-formation.labocleo.org/194021
LOCATION:Paris
END:VEVENT
BEGIN:VEVENT
DTSTART;VALUE=DATE:20071217
DTEND;VALUE=DATE:20071218
UID:194021-20071217@calenda.revues.org
SUMMARY:Episcopatus : politique\, rhétorique et théologie d’une fonction ecclésiastique (XVIe-XVIIe siècles)
URL:https://calenda-formation.labocleo.org/194021
DESCRIPTION:Conférences sur les théories européennes de l'épiscopat\, du XVIe au XVIIe siècles. Si les textes théoriques et canoniques seront privilégiées\, d'autres types de sources (notamment les panégyriques) seront abordées.… @plus_info https://calenda-formation.labocleo.org/194021
LOCATION:Paris
END:VEVENT
BEGIN:VEVENT
DTSTART;VALUE=DATE:20071218
DTEND;VALUE=DATE:20071219
UID:194021-20071218@calenda.revues.org
SUMMARY:Episcopatus : politique\, rhétorique et théologie d’une fonction ecclésiastique (XVIe-XVIIe siècles)
URL:https://calenda-formation.labocleo.org/194021
DESCRIPTION:Conférences sur les théories européennes de l'épiscopat\, du XVIe au XVIIe siècles. Si les textes théoriques et canoniques seront privilégiées\, d'autres types de sources (notamment les panégyriques) seront abordées.… @plus_info https://calenda-formation.labocleo.org/194021
LOCATION:Paris
END:VEVENT
BEGIN:VEVENT
DTSTART;VALUE=DATE:20071219
DTEND;VALUE=DATE:20071220
UID:194021-20071219@calenda.revues.org
SUMMARY:Episcopatus : politique\, rhétorique et théologie d’une fonction ecclésiastique (XVIe-XVIIe siècles)
URL:https://calenda-formation.labocleo.org/194021
DESCRIPTION:Conférences sur les théories européennes de l'épiscopat\, du XVIe au XVIIe siècles. Si les textes théoriques et canoniques seront privilégiées\, d'autres types de sources (notamment les panégyriques) seront abordées.… @plus_info https://calenda-formation.labocleo.org/194021
LOCATION:Paris
END:VEVENT
BEGIN:VEVENT
DTSTART;VALUE=DATE:20071221
DTEND;VALUE=DATE:20071222
UID:194021-20071221@calenda.revues.org
SUMMARY:Episcopatus : politique\, rhétorique et théologie d’une fonction ecclésiastique (XVIe-XVIIe siècles)
URL:https://calenda-formation.labocleo.org/194021
DESCRIPTION:Conférences sur les théories européennes de l'épiscopat\, du XVIe au XVIIe siècles. Si les textes théoriques et canoniques seront privilégiées\, d'autres types de sources (notamment les panégyriques) seront abordées.… @plus_info https://calenda-formation.labocleo.org/194021
LOCATION:Paris
END:VEVENT
END:VCALENDAR
