BEGIN:VCALENDAR
VERSION:2.0
PRODID:-//https://calenda-formation.labocleo.org
X-WR-CALNAME:Calenda
X-WR-TIMEZONE:Europe/Paris
CALSCALE:GREGORIAN
X-WR-CALDESC:Le calendrier des lettres et sciences humaines et sociales
METHOD:PUBLISH
BEGIN:VEVENT
DTSTART;VALUE=DATE:20080430
DTEND;VALUE=DATE:20080501
UID:194078-20080430@calenda.revues.org
SUMMARY:L'histoire de l'Unesco
URL:https://calenda-formation.labocleo.org/194078
DESCRIPTION:Le Comité scientifique international du projet Histoire de l’UNESCO prévoit d’organiser trois conférences internationales en 2009-2010 sur les thèmes suivants : 1. « Vers une histoire transnationale des organisations internationales : Méthodologie/Ep… Weitere Informationen https://calenda-formation.labocleo.org/194078
LOCATION:Cambridge
END:VEVENT
END:VCALENDAR
