BEGIN:VCALENDAR
VERSION:2.0
PRODID:-//https://calenda-formation.labocleo.org
X-WR-CALNAME:Calenda
X-WR-TIMEZONE:Europe/Paris
CALSCALE:GREGORIAN
X-WR-CALDESC:Le calendrier des lettres et sciences humaines et sociales
METHOD:PUBLISH
BEGIN:VEVENT
DTSTART;VALUE=DATE:20080215
DTEND;VALUE=DATE:20080216
UID:194105-20080215@calenda.revues.org
SUMMARY:Penser les diasporas
URL:https://calenda-formation.labocleo.org/194105
DESCRIPTION:Naguère réservé à l’expérience millénaire des juifs\, le concept de diaspora a connu depuis une vingtaine d’années un succès et une expansion extraordinaires. L’heure nous a paru venue de photographier un paysage disciplinaire qui n’en finit plus de d… Weitere Informationen https://calenda-formation.labocleo.org/194105
LOCATION:
END:VEVENT
END:VCALENDAR
