BEGIN:VCALENDAR
VERSION:2.0
PRODID:-//https://calenda-formation.labocleo.org
X-WR-CALNAME:Calenda
X-WR-TIMEZONE:Europe/Paris
CALSCALE:GREGORIAN
X-WR-CALDESC:Le calendrier des lettres et sciences humaines et sociales
METHOD:PUBLISH
BEGIN:VEVENT
DTSTART;VALUE=DATE:20080301
DTEND;VALUE=DATE:20080302
UID:194121-20080301@calenda.revues.org
SUMMARY:Les hétérotopies sexuelles : formes et pratiques du désir d’ailleurs
URL:https://calenda-formation.labocleo.org/194121
DESCRIPTION:L’étude de la sexualité engage à prendre en considération les espaces réels et potentiels où elle s’exerce\, et nécessairement\, la diversité des transformations historiquement à l’œuvre dans ce « domaine » (...) L’objectif de ce colloque international… @plus_info https://calenda-formation.labocleo.org/194121
LOCATION:Bruxelles
END:VEVENT
END:VCALENDAR
