BEGIN:VCALENDAR
VERSION:2.0
PRODID:-//https://calenda-formation.labocleo.org
X-WR-CALNAME:Calenda
X-WR-TIMEZONE:Europe/Paris
CALSCALE:GREGORIAN
X-WR-CALDESC:Le calendrier des lettres et sciences humaines et sociales
METHOD:PUBLISH
BEGIN:VEVENT
DTSTART;VALUE=DATE:20080315
DTEND;VALUE=DATE:20080316
UID:194124-20080315@calenda.revues.org
SUMMARY:L'action sociale dans tous ses états
URL:https://calenda-formation.labocleo.org/194124
DESCRIPTION:Trois grands axes sont privilégiés :  * Les formes de mobilisation de la main d’oeuvre dans le champ de l’action sociale * Les structures associatives et l'action publique * Le secteur associatif et le contrôle social Les journées clôtureront sur une… Más informaciones https://calenda-formation.labocleo.org/194124
LOCATION:Metz
END:VEVENT
END:VCALENDAR
