BEGIN:VCALENDAR
VERSION:2.0
PRODID:-//https://calenda-formation.labocleo.org
X-WR-CALNAME:Calenda
X-WR-TIMEZONE:Europe/Paris
CALSCALE:GREGORIAN
X-WR-CALDESC:Le calendrier des lettres et sciences humaines et sociales
METHOD:PUBLISH
BEGIN:VEVENT
DTSTART;VALUE=DATE:20080206
DTEND;VALUE=DATE:20080207
UID:194136-20080206@calenda.revues.org
SUMMARY:Les élites en France et en Italie du Moyen Âge à l'époque contemporaine 
URL:https://calenda-formation.labocleo.org/194136
DESCRIPTION:L'obectif de cette rencontre scientifique est double : proposer à la fois un bilan historiographique des recherches conduites en France et en Italie et des études en cours qui puissent faire état des sensibilités et des approches nouvelles sur le suj… Más informaciones https://calenda-formation.labocleo.org/194136
LOCATION:Aix-en-Provence\, Marsella
END:VEVENT
BEGIN:VEVENT
DTSTART;VALUE=DATE:20080207
DTEND;VALUE=DATE:20080208
UID:194136-20080207@calenda.revues.org
SUMMARY:Les élites en France et en Italie du Moyen Âge à l'époque contemporaine 
URL:https://calenda-formation.labocleo.org/194136
DESCRIPTION:L'obectif de cette rencontre scientifique est double : proposer à la fois un bilan historiographique des recherches conduites en France et en Italie et des études en cours qui puissent faire état des sensibilités et des approches nouvelles sur le suj… Más informaciones https://calenda-formation.labocleo.org/194136
LOCATION:Aix-en-Provence\, Marsella
END:VEVENT
END:VCALENDAR
