BEGIN:VCALENDAR
VERSION:2.0
PRODID:-//https://calenda-formation.labocleo.org
X-WR-CALNAME:Calenda
X-WR-TIMEZONE:Europe/Paris
CALSCALE:GREGORIAN
X-WR-CALDESC:The calendar for arts, humanities and social sciences
METHOD:PUBLISH
BEGIN:VEVENT
DTSTART;VALUE=DATE:20080229
DTEND;VALUE=DATE:20080301
UID:194200-20080229@calenda.revues.org
SUMMARY:Acquisition des langues étrangères et contextualisations
URL:https://calenda-formation.labocleo.org/194200
DESCRIPTION:La conférence abordera des questions liées à l’impact du contexte sur le processus d’acquisition des langues étrangères et à la contextualisation de ces recherches en termes d’évaluation des compétences linguistiques et de conception des curricula.… @plus_info https://calenda-formation.labocleo.org/194200
LOCATION:Aix-en-Provence
END:VEVENT
END:VCALENDAR
