BEGIN:VCALENDAR
VERSION:2.0
PRODID:-//https://calenda-formation.labocleo.org
X-WR-CALNAME:Calenda
X-WR-TIMEZONE:Europe/Paris
CALSCALE:GREGORIAN
X-WR-CALDESC:Le calendrier des lettres et sciences humaines et sociales
METHOD:PUBLISH
BEGIN:VEVENT
DTSTART;VALUE=DATE:20080201
DTEND;VALUE=DATE:20080202
UID:194247-20080201@calenda.revues.org
SUMMARY:Philologie et linguistique en Europe\, XIXe-XXe siècles
URL:https://calenda-formation.labocleo.org/194247
DESCRIPTION:Ces journées de la Société d'Histoire et d'Epistémologie des Sciences du Langage seront l’occasion de réfléchir sur les acteurs intellectuels\, leur statut\,  leurs buts\, leurs programmes et sur leurs oeuvres\, afin de prendre la mesure des différentes … Weitere Informationen https://calenda-formation.labocleo.org/194247
LOCATION:Paris
END:VEVENT
BEGIN:VEVENT
DTSTART;VALUE=DATE:20080202
DTEND;VALUE=DATE:20080203
UID:194247-20080202@calenda.revues.org
SUMMARY:Philologie et linguistique en Europe\, XIXe-XXe siècles
URL:https://calenda-formation.labocleo.org/194247
DESCRIPTION:Ces journées de la Société d'Histoire et d'Epistémologie des Sciences du Langage seront l’occasion de réfléchir sur les acteurs intellectuels\, leur statut\,  leurs buts\, leurs programmes et sur leurs oeuvres\, afin de prendre la mesure des différentes … Weitere Informationen https://calenda-formation.labocleo.org/194247
LOCATION:Paris
END:VEVENT
END:VCALENDAR
