BEGIN:VCALENDAR
VERSION:2.0
PRODID:-//https://calenda-formation.labocleo.org
X-WR-CALNAME:Calenda
X-WR-TIMEZONE:Europe/Paris
CALSCALE:GREGORIAN
X-WR-CALDESC:The calendar for arts, humanities and social sciences
METHOD:PUBLISH
BEGIN:VEVENT
DTSTART;VALUE=DATE:20080131
DTEND;VALUE=DATE:20080201
UID:194262-20080131@calenda.revues.org
SUMMARY:Le héros dans la culture de la Gendarmerie nationale
URL:https://calenda-formation.labocleo.org/194262
DESCRIPTION:Cette journée s’inscrit dans le programme de la commission socioculturelle des armées consacré\, depuis 2006\, à l’étude de l’héroïsme dans la culture militaire. Compte tenu de la richesse des publications récentes sur la Gendarmerie nationale\, il est … @plus_info https://calenda-formation.labocleo.org/194262
LOCATION:Paris
END:VEVENT
END:VCALENDAR
