BEGIN:VCALENDAR
VERSION:2.0
PRODID:-//https://calenda-formation.labocleo.org
X-WR-CALNAME:Calenda
X-WR-TIMEZONE:Europe/Paris
CALSCALE:GREGORIAN
X-WR-CALDESC:The calendar for arts, humanities and social sciences
METHOD:PUBLISH
BEGIN:VEVENT
DTSTART;VALUE=DATE:20080215
DTEND;VALUE=DATE:20080216
UID:194305-20080215@calenda.revues.org
SUMMARY:Com interne/Com externe en entreprise : entre complémentarité et dualité
URL:https://calenda-formation.labocleo.org/194305
DESCRIPTION:La rencontre entre professionnels du secteur de la communication et universitaires spécialistes engagera les discussions et débats sur les pratiques en communication interne et externe dans les entreprises de la région Languedoc Roussillon. La journé… @plus_info https://calenda-formation.labocleo.org/194305
LOCATION:Béziers
END:VEVENT
END:VCALENDAR
