BEGIN:VCALENDAR
VERSION:2.0
PRODID:-//https://calenda-formation.labocleo.org
X-WR-CALNAME:Calenda
X-WR-TIMEZONE:Europe/Paris
CALSCALE:GREGORIAN
X-WR-CALDESC:The calendar for arts, humanities and social sciences
METHOD:PUBLISH
BEGIN:VEVENT
DTSTART;VALUE=DATE:20080315
DTEND;VALUE=DATE:20080316
UID:194306-20080315@calenda.revues.org
SUMMARY:Histoire et mémoire d'immigration en Lorraine et Grande région
URL:https://calenda-formation.labocleo.org/194306
DESCRIPTION:En région Lorraine\, si l’apport à la construction régionale des premiers migrants issus dès le XIXe siècle de pays européens semble faire l’unanimité\, d’autres nouveaux venus plus tardivement – nouveaux et anciens à la fois si on se réfère à l’expéri… @plus_info https://calenda-formation.labocleo.org/194306
LOCATION:Talange
END:VEVENT
END:VCALENDAR
