BEGIN:VCALENDAR
VERSION:2.0
PRODID:-//https://calenda-formation.labocleo.org
X-WR-CALNAME:Calenda
X-WR-TIMEZONE:Europe/Paris
CALSCALE:GREGORIAN
X-WR-CALDESC:Le calendrier des lettres et sciences humaines et sociales
METHOD:PUBLISH
BEGIN:VEVENT
DTSTART;VALUE=DATE:20080301
DTEND;VALUE=DATE:20080302
UID:194310-20080301@calenda.revues.org
SUMMARY:Communication et apprentissage instrumenté en réseaux
URL:https://calenda-formation.labocleo.org/194310
DESCRIPTION:Analyse d’interactions et de productions lors d’activités d'apprentissage instrumentées.  Analyse des outils et des dispositifs de communication.  Rôles\, pratiques et discours d'acteurs.  Méthodologies d'analyse et modalités de traitement des données… Weitere Informationen https://calenda-formation.labocleo.org/194310
LOCATION:Amiens
END:VEVENT
END:VCALENDAR
