BEGIN:VCALENDAR
VERSION:2.0
PRODID:-//https://calenda-formation.labocleo.org
X-WR-CALNAME:Calenda
X-WR-TIMEZONE:Europe/Paris
CALSCALE:GREGORIAN
X-WR-CALDESC:The calendar for arts, humanities and social sciences
METHOD:PUBLISH
BEGIN:VEVENT
DTSTART;VALUE=DATE:20080301
DTEND;VALUE=DATE:20080302
UID:194318-20080301@calenda.revues.org
SUMMARY:Retelling the Bible
URL:https://calenda-formation.labocleo.org/194318
DESCRIPTION:Call for papers: Retelling the Bible\, an interdisciplinary workshop at the center for Theoretical Studies in Prague\, Czech Republic\, in September 11-13\, 2008… @plus_info https://calenda-formation.labocleo.org/194318
LOCATION:
END:VEVENT
END:VCALENDAR
