BEGIN:VCALENDAR
VERSION:2.0
PRODID:-//https://calenda-formation.labocleo.org
X-WR-CALNAME:Calenda
X-WR-TIMEZONE:Europe/Paris
CALSCALE:GREGORIAN
X-WR-CALDESC:The calendar for arts, humanities and social sciences
METHOD:PUBLISH
BEGIN:VEVENT
DTSTART;VALUE=DATE:20080501
DTEND;VALUE=DATE:20080502
UID:194424-20080501@calenda.revues.org
SUMMARY:Afrocentrismes américains. Mythologies et pratiques sociales
URL:https://calenda-formation.labocleo.org/194424
DESCRIPTION:La revue Civilisations consacrera en 2009 un numéro aux "Afrocentrismes américains". Dans ce volume\, il s'agira de considérer l’afrocentrisme comme un objet anthropologique\, historique et sociologique\, une production sociale née du nationalisme et de… @plus_info https://calenda-formation.labocleo.org/194424
LOCATION:
END:VEVENT
END:VCALENDAR
