BEGIN:VCALENDAR
VERSION:2.0
PRODID:-//https://calenda-formation.labocleo.org
X-WR-CALNAME:Calenda
X-WR-TIMEZONE:Europe/Paris
CALSCALE:GREGORIAN
X-WR-CALDESC:The calendar for arts, humanities and social sciences
METHOD:PUBLISH
BEGIN:VEVENT
DTSTART;VALUE=DATE:20080314
DTEND;VALUE=DATE:20080315
UID:194427-20080314@calenda.revues.org
SUMMARY:Enseignement des questions socialement vives en histoire et géographie
URL:https://calenda-formation.labocleo.org/194427
DESCRIPTION:Enseignement du fait religieux\, destruction des juifs en Europe\, esclavage\, colonisation et décolonisation\, immigration\, mémoires de la Résistance\, autant de sujets vifs qui suscitent des controverses dans l’espace public\, mais aussi difficultés et d… @plus_info https://calenda-formation.labocleo.org/194427
LOCATION:Paris
END:VEVENT
BEGIN:VEVENT
DTSTART;VALUE=DATE:20080315
DTEND;VALUE=DATE:20080316
UID:194427-20080315@calenda.revues.org
SUMMARY:Enseignement des questions socialement vives en histoire et géographie
URL:https://calenda-formation.labocleo.org/194427
DESCRIPTION:Enseignement du fait religieux\, destruction des juifs en Europe\, esclavage\, colonisation et décolonisation\, immigration\, mémoires de la Résistance\, autant de sujets vifs qui suscitent des controverses dans l’espace public\, mais aussi difficultés et d… @plus_info https://calenda-formation.labocleo.org/194427
LOCATION:Paris
END:VEVENT
END:VCALENDAR
