BEGIN:VCALENDAR
VERSION:2.0
PRODID:-//https://calenda-formation.labocleo.org
X-WR-CALNAME:Calenda
X-WR-TIMEZONE:Europe/Paris
CALSCALE:GREGORIAN
X-WR-CALDESC:The calendar for arts, humanities and social sciences
METHOD:PUBLISH
BEGIN:VEVENT
DTSTART;VALUE=DATE:20080325
DTEND;VALUE=DATE:20080326
UID:194457-20080325@calenda.revues.org
SUMMARY:Les discours sur l’égalité\, l'inégalité des femmes et des hommes 
URL:https://calenda-formation.labocleo.org/194457
DESCRIPTION:La SIEFAR et l’IHMC organisent\, à l’automne 2008\, la première d’une série de journées d’études consacrées aux discours sur l’égalité/inégalité des femmes et des hommes. Cette journée s’inscrit dans un programme scientifique pluriannuel visant à faire… @plus_info https://calenda-formation.labocleo.org/194457
LOCATION:Paris
END:VEVENT
END:VCALENDAR
