BEGIN:VCALENDAR
VERSION:2.0
PRODID:-//https://calenda-formation.labocleo.org
X-WR-CALNAME:Calenda
X-WR-TIMEZONE:Europe/Paris
CALSCALE:GREGORIAN
X-WR-CALDESC:The calendar for arts, humanities and social sciences
METHOD:PUBLISH
BEGIN:VEVENT
DTSTART;VALUE=DATE:20080313
DTEND;VALUE=DATE:20080314
UID:194468-20080313@calenda.revues.org
SUMMARY:Le conflit et sa représentation dans l’Antiquité
URL:https://calenda-formation.labocleo.org/194468
DESCRIPTION:Depuis plus de vingt ans\, de nombreux travaux ont été consacrés aux conflits entre les peuples et à ceux internes aux sociétés de la Méditerranée antique\, afin d’en étudier les causes\, les déroulements et les prolongements. Cette démarche historique\,… @plus_info https://calenda-formation.labocleo.org/194468
LOCATION:Montpellier
END:VEVENT
BEGIN:VEVENT
DTSTART;VALUE=DATE:20080314
DTEND;VALUE=DATE:20080315
UID:194468-20080314@calenda.revues.org
SUMMARY:Le conflit et sa représentation dans l’Antiquité
URL:https://calenda-formation.labocleo.org/194468
DESCRIPTION:Depuis plus de vingt ans\, de nombreux travaux ont été consacrés aux conflits entre les peuples et à ceux internes aux sociétés de la Méditerranée antique\, afin d’en étudier les causes\, les déroulements et les prolongements. Cette démarche historique\,… @plus_info https://calenda-formation.labocleo.org/194468
LOCATION:Montpellier
END:VEVENT
BEGIN:VEVENT
DTSTART;VALUE=DATE:20080315
DTEND;VALUE=DATE:20080316
UID:194468-20080315@calenda.revues.org
SUMMARY:Le conflit et sa représentation dans l’Antiquité
URL:https://calenda-formation.labocleo.org/194468
DESCRIPTION:Depuis plus de vingt ans\, de nombreux travaux ont été consacrés aux conflits entre les peuples et à ceux internes aux sociétés de la Méditerranée antique\, afin d’en étudier les causes\, les déroulements et les prolongements. Cette démarche historique\,… @plus_info https://calenda-formation.labocleo.org/194468
LOCATION:Montpellier
END:VEVENT
END:VCALENDAR
