BEGIN:VCALENDAR
VERSION:2.0
PRODID:-//https://calenda-formation.labocleo.org
X-WR-CALNAME:Calenda
X-WR-TIMEZONE:Europe/Paris
CALSCALE:GREGORIAN
X-WR-CALDESC:The calendar for arts, humanities and social sciences
METHOD:PUBLISH
BEGIN:VEVENT
DTSTART;VALUE=DATE:20080321
DTEND;VALUE=DATE:20080322
UID:194505-20080321@calenda.revues.org
SUMMARY:Le montage : outil théorique\, procédé historiographique
URL:https://calenda-formation.labocleo.org/194505
DESCRIPTION:Cette année\, le séminaire Images Re-vues s’attachera à l’étude du concept de montage\, pris en tant que procédé historiographique\, outil herméneutique et mode de composition. Il s’agira alors d’interroger son double rôle\, productif et interprétatif\, à… @plus_info https://calenda-formation.labocleo.org/194505
LOCATION:Paris
END:VEVENT
BEGIN:VEVENT
DTSTART;VALUE=DATE:20080418
DTEND;VALUE=DATE:20080419
UID:194505-20080418@calenda.revues.org
SUMMARY:Le montage : outil théorique\, procédé historiographique
URL:https://calenda-formation.labocleo.org/194505
DESCRIPTION:Cette année\, le séminaire Images Re-vues s’attachera à l’étude du concept de montage\, pris en tant que procédé historiographique\, outil herméneutique et mode de composition. Il s’agira alors d’interroger son double rôle\, productif et interprétatif\, à… @plus_info https://calenda-formation.labocleo.org/194505
LOCATION:Paris
END:VEVENT
END:VCALENDAR
