BEGIN:VCALENDAR
VERSION:2.0
PRODID:-//https://calenda-formation.labocleo.org
X-WR-CALNAME:Calenda
X-WR-TIMEZONE:Europe/Paris
CALSCALE:GREGORIAN
X-WR-CALDESC:Le calendrier des lettres et sciences humaines et sociales
METHOD:PUBLISH
BEGIN:VEVENT
DTSTART;VALUE=DATE:20080408
DTEND;VALUE=DATE:20080409
UID:194530-20080408@calenda.revues.org
SUMMARY:Immigration et marchés du travail
URL:https://calenda-formation.labocleo.org/194530
DESCRIPTION:La problématique de cette rencontre franco-italienne concerne un sujet de plus en plus présent au niveau médiatique et politique : l’immigration. Questionner ultérieurement les imbrications qui existent entre immigration et marché du travail particip… Weitere Informationen https://calenda-formation.labocleo.org/194530
LOCATION:Aix-en-Provence
END:VEVENT
END:VCALENDAR
