BEGIN:VCALENDAR
VERSION:2.0
PRODID:-//https://calenda-formation.labocleo.org
X-WR-CALNAME:Calenda
X-WR-TIMEZONE:Europe/Paris
CALSCALE:GREGORIAN
X-WR-CALDESC:Le calendrier des lettres et sciences humaines et sociales
METHOD:PUBLISH
BEGIN:VEVENT
DTSTART;VALUE=DATE:20080516
DTEND;VALUE=DATE:20080517
UID:194536-20080516@calenda.revues.org
SUMMARY:Pensée et modes de pensée à Rome
URL:https://calenda-formation.labocleo.org/194536
DESCRIPTION:Ce séminaire\, organisé par Compitum\, se propose d’étudier l’activité intellectuelle et mentale des Romains. Il s’agit d’observer la pensée à l’œuvre dans des espaces qui ne relèveront pas nécessairement de la seule production théorique. En conjuguant… Weitere Informationen https://calenda-formation.labocleo.org/194536
LOCATION:Paris
END:VEVENT
BEGIN:VEVENT
DTSTART;VALUE=DATE:20080314
DTEND;VALUE=DATE:20080315
UID:194536-20080314@calenda.revues.org
SUMMARY:Pensée et modes de pensée à Rome
URL:https://calenda-formation.labocleo.org/194536
DESCRIPTION:Ce séminaire\, organisé par Compitum\, se propose d’étudier l’activité intellectuelle et mentale des Romains. Il s’agit d’observer la pensée à l’œuvre dans des espaces qui ne relèveront pas nécessairement de la seule production théorique. En conjuguant… Weitere Informationen https://calenda-formation.labocleo.org/194536
LOCATION:Paris
END:VEVENT
BEGIN:VEVENT
DTSTART;VALUE=DATE:20080411
DTEND;VALUE=DATE:20080412
UID:194536-20080411@calenda.revues.org
SUMMARY:Pensée et modes de pensée à Rome
URL:https://calenda-formation.labocleo.org/194536
DESCRIPTION:Ce séminaire\, organisé par Compitum\, se propose d’étudier l’activité intellectuelle et mentale des Romains. Il s’agit d’observer la pensée à l’œuvre dans des espaces qui ne relèveront pas nécessairement de la seule production théorique. En conjuguant… Weitere Informationen https://calenda-formation.labocleo.org/194536
LOCATION:Paris
END:VEVENT
BEGIN:VEVENT
DTSTART;VALUE=DATE:20080613
DTEND;VALUE=DATE:20080614
UID:194536-20080613@calenda.revues.org
SUMMARY:Pensée et modes de pensée à Rome
URL:https://calenda-formation.labocleo.org/194536
DESCRIPTION:Ce séminaire\, organisé par Compitum\, se propose d’étudier l’activité intellectuelle et mentale des Romains. Il s’agit d’observer la pensée à l’œuvre dans des espaces qui ne relèveront pas nécessairement de la seule production théorique. En conjuguant… Weitere Informationen https://calenda-formation.labocleo.org/194536
LOCATION:Paris
END:VEVENT
END:VCALENDAR
