BEGIN:VCALENDAR
VERSION:2.0
PRODID:-//https://calenda-formation.labocleo.org
X-WR-CALNAME:Calenda
X-WR-TIMEZONE:Europe/Paris
CALSCALE:GREGORIAN
X-WR-CALDESC:Le calendrier des lettres et sciences humaines et sociales
METHOD:PUBLISH
BEGIN:VEVENT
DTSTART;VALUE=DATE:20080516
DTEND;VALUE=DATE:20080517
UID:194547-20080516@calenda.revues.org
SUMMARY:Histoire et actualité de la Recherche coopérative sur programme de Plozévet
URL:https://calenda-formation.labocleo.org/194547
DESCRIPTION:Ce colloque\, prenant prétexte d’un retour sur les Recherches coopératives sur programme (RCP)  des années soixante – soixante-dix\, en particulier sur celle de Plozévet\, entend contribuer à l’histoire des sciences humaines et sociales\, au regard des q… Weitere Informationen https://calenda-formation.labocleo.org/194547
LOCATION:Plozévet
END:VEVENT
BEGIN:VEVENT
DTSTART;VALUE=DATE:20080517
DTEND;VALUE=DATE:20080518
UID:194547-20080517@calenda.revues.org
SUMMARY:Histoire et actualité de la Recherche coopérative sur programme de Plozévet
URL:https://calenda-formation.labocleo.org/194547
DESCRIPTION:Ce colloque\, prenant prétexte d’un retour sur les Recherches coopératives sur programme (RCP)  des années soixante – soixante-dix\, en particulier sur celle de Plozévet\, entend contribuer à l’histoire des sciences humaines et sociales\, au regard des q… Weitere Informationen https://calenda-formation.labocleo.org/194547
LOCATION:Plozévet
END:VEVENT
END:VCALENDAR
