BEGIN:VCALENDAR
VERSION:2.0
PRODID:-//https://calenda-formation.labocleo.org
X-WR-CALNAME:Calenda
X-WR-TIMEZONE:Europe/Paris
CALSCALE:GREGORIAN
X-WR-CALDESC:Le calendrier des lettres et sciences humaines et sociales
METHOD:PUBLISH
BEGIN:VEVENT
DTSTART;VALUE=DATE:20080320
DTEND;VALUE=DATE:20080321
UID:194549-20080320@calenda.revues.org
SUMMARY:Lieux et sociétés ethnologisés
URL:https://calenda-formation.labocleo.org/194549
DESCRIPTION:Terrains de prédilection des anthropologues\, certains lieux ou certains « échantillons de sociétés » ont été étudiés par les chercheurs de façon récurrente. Ces lieux et sociétés\, qui  vivent et évoluent avec et à travers la discipline\, posent des pr… Weitere Informationen https://calenda-formation.labocleo.org/194549
LOCATION:Bordeaux
END:VEVENT
END:VCALENDAR
