BEGIN:VCALENDAR
VERSION:2.0
PRODID:-//https://calenda-formation.labocleo.org
X-WR-CALNAME:Calenda
X-WR-TIMEZONE:Europe/Paris
CALSCALE:GREGORIAN
X-WR-CALDESC:Le calendrier des lettres et sciences humaines et sociales
METHOD:PUBLISH
BEGIN:VEVENT
DTSTART;VALUE=DATE:20080409
DTEND;VALUE=DATE:20080410
UID:194556-20080409@calenda.revues.org
SUMMARY:Ville vivante ou ville musée ? 
URL:https://calenda-formation.labocleo.org/194556
DESCRIPTION:À partir de l'exemple de Bordeaux\, récemment inscrite au Patrimoine mondial de l'Humanité\, les éditions Bastingage et l'École nationale supérieure d'architecture et de paysage de Bordeaux organisent un séminaire conférence débat sur les deux enjeux e… Más informaciones https://calenda-formation.labocleo.org/194556
LOCATION:Talence
END:VEVENT
END:VCALENDAR
