BEGIN:VCALENDAR
VERSION:2.0
PRODID:-//https://calenda-formation.labocleo.org
X-WR-CALNAME:Calenda
X-WR-TIMEZONE:Europe/Paris
CALSCALE:GREGORIAN
X-WR-CALDESC:Le calendrier des lettres et sciences humaines et sociales
METHOD:PUBLISH
BEGIN:VEVENT
DTSTART;VALUE=DATE:20080428
DTEND;VALUE=DATE:20080429
UID:194681-20080428@calenda.revues.org
SUMMARY:Les lieux d’émergence de la représentation médiatique
URL:https://calenda-formation.labocleo.org/194681
DESCRIPTION:La notion de représentation médiatique reste floue si on ne précise pas\, pour la penser et travailler ses objets et ses moyens\, le lieu où elle émerge. Une telle thématique invite à questionner les objets et les supports des représentations médiatiqu… @plus_info https://calenda-formation.labocleo.org/194681
LOCATION:Lyon
END:VEVENT
END:VCALENDAR
