BEGIN:VCALENDAR
VERSION:2.0
PRODID:-//https://calenda-formation.labocleo.org
X-WR-CALNAME:Calenda
X-WR-TIMEZONE:Europe/Paris
CALSCALE:GREGORIAN
X-WR-CALDESC:The calendar for arts, humanities and social sciences
METHOD:PUBLISH
BEGIN:VEVENT
DTSTART;VALUE=DATE:20080630
DTEND;VALUE=DATE:20080701
UID:194709-20080630@calenda.revues.org
SUMMARY:Traduire le même\, l’autre ou le soi
URL:https://calenda-formation.labocleo.org/194709
DESCRIPTION:Depuis Cicéron (Ier siècle av. J.-C.) les théories de la traduction considèrent qu’il existe deux façons de traduire le texte littéraire. Ou bien le traducteur est un « interpres » et traduit mot pour mot (les sourciers)\, ou bien le traducteur est un… @plus_info https://calenda-formation.labocleo.org/194709
LOCATION:Aix-en-Provence
END:VEVENT
END:VCALENDAR
