BEGIN:VCALENDAR
VERSION:2.0
PRODID:-//https://calenda-formation.labocleo.org
X-WR-CALNAME:Calenda
X-WR-TIMEZONE:Europe/Paris
CALSCALE:GREGORIAN
X-WR-CALDESC:The calendar for arts, humanities and social sciences
METHOD:PUBLISH
BEGIN:VEVENT
DTSTART;VALUE=DATE:20080515
DTEND;VALUE=DATE:20080516
UID:194796-20080515@calenda.revues.org
SUMMARY:À la recherche des oppositions au Maghreb
URL:https://calenda-formation.labocleo.org/194796
DESCRIPTION:L'Année du Maghreb a remplacé l’Annuaire de l’Afrique du Nord en 2004. Comme son prédécesseur\, L'Année du Maghreb a pour vocation première d'analyser l'actualité maghrébine durant une année de référence. Cette approche nationale est complétée  par un… @plus_info https://calenda-formation.labocleo.org/194796
LOCATION:Aix-en-Provence
END:VEVENT
END:VCALENDAR
