BEGIN:VCALENDAR
VERSION:2.0
PRODID:-//https://calenda-formation.labocleo.org
X-WR-CALNAME:Calenda
X-WR-TIMEZONE:Europe/Paris
CALSCALE:GREGORIAN
X-WR-CALDESC:Le calendrier des lettres et sciences humaines et sociales
METHOD:PUBLISH
BEGIN:VEVENT
DTSTART;VALUE=DATE:20080515
DTEND;VALUE=DATE:20080516
UID:194924-20080515@calenda.revues.org
SUMMARY:La Ve République au Parlement
URL:https://calenda-formation.labocleo.org/194924
DESCRIPTION:À l’occasion du cinquantième anniversaire de la naissance de la Cinquième République\, le Comité d’histoire parlementaire et politique s’associe une nouvelle fois avec le Sénat pour organiser\, le 15 mai 2008\, une journée d’études consacrée au Parlemen… Weitere Informationen https://calenda-formation.labocleo.org/194924
LOCATION:Paris
END:VEVENT
END:VCALENDAR
