BEGIN:VCALENDAR
VERSION:2.0
PRODID:-//https://calenda-formation.labocleo.org
X-WR-CALNAME:Calenda
X-WR-TIMEZONE:Europe/Paris
CALSCALE:GREGORIAN
X-WR-CALDESC:Le calendrier des lettres et sciences humaines et sociales
METHOD:PUBLISH
BEGIN:VEVENT
DTSTART;VALUE=DATE:20080521
DTEND;VALUE=DATE:20080522
UID:194926-20080521@calenda.revues.org
SUMMARY:Publier quand on est jeune chercheur : comment ? pourquoi ?
URL:https://calenda-formation.labocleo.org/194926
DESCRIPTION:ENthèSe\, l'association des doctorants de l'Ecole normale supérieure Lettres et Sciences humaines (Lyon) organise un après-midi de réflexions et de débats sur les enjeux de la publication pour les doctorants et les jeunes chercheurs.… Más informaciones https://calenda-formation.labocleo.org/194926
LOCATION:Lyon
END:VEVENT
END:VCALENDAR
