BEGIN:VCALENDAR
VERSION:2.0
PRODID:-//https://calenda-formation.labocleo.org
X-WR-CALNAME:Calenda
X-WR-TIMEZONE:Europe/Paris
CALSCALE:GREGORIAN
X-WR-CALDESC:The calendar for arts, humanities and social sciences
METHOD:PUBLISH
BEGIN:VEVENT
DTSTART;VALUE=DATE:20080603
DTEND;VALUE=DATE:20080604
UID:194943-20080603@calenda.revues.org
SUMMARY:Empathic cruelty: an evolutionary narrative for the twenty-first century
URL:https://calenda-formation.labocleo.org/194943
DESCRIPTION:Allan Young (Professeur d’anthropologie à l’Université Mc Gill de Montréal\, spécialiste d’histoire sociale de la psychiatrie et de la neurologie) présentera une conférence le mardi 3 juin sur le thème : « Empathic Cruelty: An Evolutionary Narrative f… @plus_info https://calenda-formation.labocleo.org/194943
LOCATION:Paris
END:VEVENT
END:VCALENDAR
