BEGIN:VCALENDAR
VERSION:2.0
PRODID:-//https://calenda-formation.labocleo.org
X-WR-CALNAME:Calenda
X-WR-TIMEZONE:Europe/Paris
CALSCALE:GREGORIAN
X-WR-CALDESC:The calendar for arts, humanities and social sciences
METHOD:PUBLISH
BEGIN:VEVENT
DTSTART;VALUE=DATE:20080527
DTEND;VALUE=DATE:20080528
UID:194948-20080527@calenda.revues.org
SUMMARY:L’éducation plurilingue aujourd’hui
URL:https://calenda-formation.labocleo.org/194948
DESCRIPTION:L’école française accueille des enfants et des jeunes de langues maternelles autres que le français\, nés en France\, ou arrivant d’un autre pays. Pour amener ces élèves vers la langue française\, et leur offrir une scolarité en français\, l’école du XXI… @plus_info https://calenda-formation.labocleo.org/194948
LOCATION:Grenoble
END:VEVENT
END:VCALENDAR
