BEGIN:VCALENDAR
VERSION:2.0
PRODID:-//https://calenda-formation.labocleo.org
X-WR-CALNAME:Calenda
X-WR-TIMEZONE:Europe/Paris
CALSCALE:GREGORIAN
X-WR-CALDESC:O calendário de letras e de ciências sociais e humanas
METHOD:PUBLISH
BEGIN:VEVENT
DTSTART;VALUE=DATE:20080524
DTEND;VALUE=DATE:20080525
UID:194968-20080524@calenda.revues.org
SUMMARY:Les plantes curieuses
URL:https://calenda-formation.labocleo.org/194968
DESCRIPTION:Les armoires d’un cabinet de curiosités sont remplies d’objets d’art\, de médailles\, d’animaux étranges\, de monstres\, de compositions artistiques\, de coquilles\, de minéraux et parfois de végétaux. Si l’on conçoit aisément le concept de merveille en ma… @plus_info https://calenda-formation.labocleo.org/194968
LOCATION:Voiron
END:VEVENT
END:VCALENDAR
