BEGIN:VCALENDAR
VERSION:2.0
PRODID:-//https://calenda-formation.labocleo.org
X-WR-CALNAME:Calenda
X-WR-TIMEZONE:Europe/Paris
CALSCALE:GREGORIAN
X-WR-CALDESC:The calendar for arts, humanities and social sciences
METHOD:PUBLISH
BEGIN:VEVENT
DTSTART;VALUE=DATE:20080619
DTEND;VALUE=DATE:20080620
UID:194987-20080619@calenda.revues.org
SUMMARY:Formation à l'information : réalisations et acteurs\, où en sommes-nous ?
URL:https://calenda-formation.labocleo.org/194987
DESCRIPTION:La formation à l’information semble maintenant réellement intégrée dans les missions des bibliothèques universitaires. Même si des difficultés subsistent\, les établissements ne se demandent plus si cette formation est nécessaire et la mettent en oeuv… @plus_info https://calenda-formation.labocleo.org/194987
LOCATION:Villeurbanne
END:VEVENT
END:VCALENDAR
