BEGIN:VCALENDAR
VERSION:2.0
PRODID:-//https://calenda-formation.labocleo.org
X-WR-CALNAME:Calenda
X-WR-TIMEZONE:Europe/Paris
CALSCALE:GREGORIAN
X-WR-CALDESC:Le calendrier des lettres et sciences humaines et sociales
METHOD:PUBLISH
BEGIN:VEVENT
DTSTART;VALUE=DATE:20080618
DTEND;VALUE=DATE:20080619
UID:195012-20080618@calenda.revues.org
SUMMARY:Les usages et pratiques professionnels en droit de la propriété intellectuelle
URL:https://calenda-formation.labocleo.org/195012
DESCRIPTION:Le Master de droit de la propriété intellectuelle appliquée de Paris XII organise chaque année un colloque. Pour la cinquième édition de ces rencontres annuelles\, le thème choisi porte sur les usages et pratiques professionnelles en droit de la propr… Más informaciones https://calenda-formation.labocleo.org/195012
LOCATION:París
END:VEVENT
END:VCALENDAR
