BEGIN:VCALENDAR
VERSION:2.0
PRODID:-//https://calenda-formation.labocleo.org
X-WR-CALNAME:Calenda
X-WR-TIMEZONE:Europe/Paris
CALSCALE:GREGORIAN
X-WR-CALDESC:Le calendrier des lettres et sciences humaines et sociales
METHOD:PUBLISH
BEGIN:VEVENT
DTSTART;VALUE=DATE:20080915
DTEND;VALUE=DATE:20080916
UID:195075-20080915@calenda.revues.org
SUMMARY:L'héritage de Darwin dans les cultures européennes
URL:https://calenda-formation.labocleo.org/195075
DESCRIPTION:Les 3 et 4 avril prochain\, le CRINI (Centre de recherche sur les identités nationales et l’interculturalité\, Université de Nantes) et le GRER (ICT) (Centre de recherche sur l’eugénisme et le racisme\, Université Paris Diderot)\, organisent un colloque … Weitere Informationen https://calenda-formation.labocleo.org/195075
LOCATION:Nantes
END:VEVENT
END:VCALENDAR
