BEGIN:VCALENDAR
VERSION:2.0
PRODID:-//https://calenda-formation.labocleo.org
X-WR-CALNAME:Calenda
X-WR-TIMEZONE:Europe/Paris
CALSCALE:GREGORIAN
X-WR-CALDESC:Le calendrier des lettres et sciences humaines et sociales
METHOD:PUBLISH
BEGIN:VEVENT
DTSTART;VALUE=DATE:20080915
DTEND;VALUE=DATE:20080916
UID:195086-20080915@calenda.revues.org
SUMMARY:Quelles architectures pour quelle Europe ?
URL:https://calenda-formation.labocleo.org/195086
DESCRIPTION:La Maison de Robert Schuman organise en novembre 2009 un colloque au cours duquel il s’agira de présenter les visions et les architectures européennes d’acteurs politiques (hommes d’Etat\, responsables de partis politiques\, personnalités de premier pl… Weitere Informationen https://calenda-formation.labocleo.org/195086
LOCATION:
END:VEVENT
END:VCALENDAR
