BEGIN:VCALENDAR
VERSION:2.0
PRODID:-//https://calenda-formation.labocleo.org
X-WR-CALNAME:Calenda
X-WR-TIMEZONE:Europe/Paris
CALSCALE:GREGORIAN
X-WR-CALDESC:The calendar for arts, humanities and social sciences
METHOD:PUBLISH
BEGIN:VEVENT
DTSTART;VALUE=DATE:20081101
DTEND;VALUE=DATE:20081102
UID:195113-20081101@calenda.revues.org
SUMMARY:Fins et confins du tourisme
URL:https://calenda-formation.labocleo.org/195113
DESCRIPTION:Dans un contexte de mutations et de recompositions\, le colloque pluridisciplinaire « Fins et confins du tourisme » se donne pour objectif de stimuler et de valoriser le questionnement réflexif et critique des catégories\, des mythes et des schémas str… @plus_info https://calenda-formation.labocleo.org/195113
LOCATION:Grenoble
END:VEVENT
END:VCALENDAR
