BEGIN:VCALENDAR
VERSION:2.0
PRODID:-//https://calenda-formation.labocleo.org
X-WR-CALNAME:Calenda
X-WR-TIMEZONE:Europe/Paris
CALSCALE:GREGORIAN
X-WR-CALDESC:The calendar for arts, humanities and social sciences
METHOD:PUBLISH
BEGIN:VEVENT
DTSTART;VALUE=DATE:20080623
DTEND;VALUE=DATE:20080624
UID:195121-20080623@calenda.revues.org
SUMMARY:Existe-t-il une « sociologie européenne » ?
URL:https://calenda-formation.labocleo.org/195121
DESCRIPTION:Dans l’esprit qui l’anime depuis sa création\, le RTP poursuit un « séminaire » visant à favoriser les échanges entre spécialistes des sciences sociales sur les évolutions de la sociologie. La séance du 23 juin sera consacrée à une réflexion autour de… @plus_info https://calenda-formation.labocleo.org/195121
LOCATION:Paris
END:VEVENT
END:VCALENDAR
