BEGIN:VCALENDAR
VERSION:2.0
PRODID:-//https://calenda-formation.labocleo.org
X-WR-CALNAME:Calenda
X-WR-TIMEZONE:Europe/Paris
CALSCALE:GREGORIAN
X-WR-CALDESC:Le calendrier des lettres et sciences humaines et sociales
METHOD:PUBLISH
BEGIN:VEVENT
DTSTART;VALUE=DATE:20080620
DTEND;VALUE=DATE:20080621
UID:195144-20080620@calenda.revues.org
SUMMARY:Séance inaugurale du GDR 3177 « Diplomatique »
URL:https://calenda-formation.labocleo.org/195144
DESCRIPTION:Le GDR 3177 « diplomatique » qui vient d’être créé au CNRS\, sous la direction de P. Bertrand (IRHT)\, commence ses travaux ce 20 juin 2008. Il veut être le carrefour des recherches en diplomatique et en histoire des pratiques de l’écrit médiéval. Il e… @plus_info https://calenda-formation.labocleo.org/195144
LOCATION:Paris
END:VEVENT
END:VCALENDAR
