BEGIN:VCALENDAR
VERSION:2.0
PRODID:-//https://calenda-formation.labocleo.org
X-WR-CALNAME:Calenda
X-WR-TIMEZONE:Europe/Paris
CALSCALE:GREGORIAN
X-WR-CALDESC:The calendar for arts, humanities and social sciences
METHOD:PUBLISH
BEGIN:VEVENT
DTSTART;VALUE=DATE:20080618
DTEND;VALUE=DATE:20080619
UID:195178-20080618@calenda.revues.org
SUMMARY:La pensée de Günther Anders
URL:https://calenda-formation.labocleo.org/195178
DESCRIPTION:Cet année les Groupes de recherche du CEAQ organisent le 18 juin 2008\, une rencontre autour de la pensée du philosophe et écrivain allemand Günther Anders.… @plus_info https://calenda-formation.labocleo.org/195178
LOCATION:Paris
END:VEVENT
END:VCALENDAR
