BEGIN:VCALENDAR
VERSION:2.0
PRODID:-//https://calenda-formation.labocleo.org
X-WR-CALNAME:Calenda
X-WR-TIMEZONE:Europe/Paris
CALSCALE:GREGORIAN
X-WR-CALDESC:Le calendrier des lettres et sciences humaines et sociales
METHOD:PUBLISH
BEGIN:VEVENT
DTSTART;VALUE=DATE:20081030
DTEND;VALUE=DATE:20081031
UID:195191-20081030@calenda.revues.org
SUMMARY:Sports et médias. XIXe-XXe siècles
URL:https://calenda-formation.labocleo.org/195191
DESCRIPTION:Plus de 100 spécialistes seront réunis à l'occasion de ce colloque. L'analyse de la presse locale\, nationale et internationale\, la diffusion de modèles de représentation ou la création d'évènements seront quelques-uns des sujets abordés détaillés dan… @plus_info https://calenda-formation.labocleo.org/195191
LOCATION:Grenoble
END:VEVENT
BEGIN:VEVENT
DTSTART;VALUE=DATE:20081031
DTEND;VALUE=DATE:20081101
UID:195191-20081031@calenda.revues.org
SUMMARY:Sports et médias. XIXe-XXe siècles
URL:https://calenda-formation.labocleo.org/195191
DESCRIPTION:Plus de 100 spécialistes seront réunis à l'occasion de ce colloque. L'analyse de la presse locale\, nationale et internationale\, la diffusion de modèles de représentation ou la création d'évènements seront quelques-uns des sujets abordés détaillés dan… @plus_info https://calenda-formation.labocleo.org/195191
LOCATION:Grenoble
END:VEVENT
BEGIN:VEVENT
DTSTART;VALUE=DATE:20081101
DTEND;VALUE=DATE:20081102
UID:195191-20081101@calenda.revues.org
SUMMARY:Sports et médias. XIXe-XXe siècles
URL:https://calenda-formation.labocleo.org/195191
DESCRIPTION:Plus de 100 spécialistes seront réunis à l'occasion de ce colloque. L'analyse de la presse locale\, nationale et internationale\, la diffusion de modèles de représentation ou la création d'évènements seront quelques-uns des sujets abordés détaillés dan… @plus_info https://calenda-formation.labocleo.org/195191
LOCATION:Grenoble
END:VEVENT
END:VCALENDAR
