BEGIN:VCALENDAR
VERSION:2.0
PRODID:-//https://calenda-formation.labocleo.org
X-WR-CALNAME:Calenda
X-WR-TIMEZONE:Europe/Paris
CALSCALE:GREGORIAN
X-WR-CALDESC:O calendário de letras e de ciências sociais e humanas
METHOD:PUBLISH
BEGIN:VEVENT
DTSTART;VALUE=DATE:20080703
DTEND;VALUE=DATE:20080704
UID:195240-20080703@calenda.revues.org
SUMMARY:Libertarisme : de gauche ou de droite ?
URL:https://calenda-formation.labocleo.org/195240
DESCRIPTION:Le libertarisme évoque plus souvent une doctrine économique anti-étatiste qu’une théorie éthique cohérente. Depuis quelques années\, une nouvelle forme de libertarisme est apparue qui tente de concilier égalitarisme réel et principe de propriété de so… @plus_info https://calenda-formation.labocleo.org/195240
LOCATION:Paris
END:VEVENT
END:VCALENDAR
