BEGIN:VCALENDAR
VERSION:2.0
PRODID:-//https://calenda-formation.labocleo.org
X-WR-CALNAME:Calenda
X-WR-TIMEZONE:Europe/Paris
CALSCALE:GREGORIAN
X-WR-CALDESC:Le calendrier des lettres et sciences humaines et sociales
METHOD:PUBLISH
BEGIN:VEVENT
DTSTART;VALUE=DATE:20081101
DTEND;VALUE=DATE:20081102
UID:195366-20081101@calenda.revues.org
SUMMARY:Les représentations du livre et des métiers du livre dans la fiction
URL:https://calenda-formation.labocleo.org/195366
DESCRIPTION:Les étudiantes et étudiants du Groupe de recherche sur l’édition littéraire au Québec (GRÉLQ) de l’Université de Sherbrooke organisent un colloque sur les représentations du livre et des métiers du livre dans la fiction. L’objectif de ce colloque est… Weitere Informationen https://calenda-formation.labocleo.org/195366
LOCATION:Sherbrooke
END:VEVENT
END:VCALENDAR
