BEGIN:VCALENDAR
VERSION:2.0
PRODID:-//https://calenda-formation.labocleo.org
X-WR-CALNAME:Calenda
X-WR-TIMEZONE:Europe/Paris
CALSCALE:GREGORIAN
X-WR-CALDESC:The calendar for arts, humanities and social sciences
METHOD:PUBLISH
BEGIN:VEVENT
DTSTART;VALUE=DATE:20081002
DTEND;VALUE=DATE:20081003
UID:195408-20081002@calenda.revues.org
SUMMARY:Droit et régulation des activités économiques
URL:https://calenda-formation.labocleo.org/195408
DESCRIPTION:L’objectif de cette manifestation est d’analyser comment le droit constitue un cadre contraignant autant qu’habilitant les modes de régulations des activités économiques. De manière alternative à une approche qui considère le droit comme exogène aux … @plus_info https://calenda-formation.labocleo.org/195408
LOCATION:Cachan
END:VEVENT
BEGIN:VEVENT
DTSTART;VALUE=DATE:20081003
DTEND;VALUE=DATE:20081004
UID:195408-20081003@calenda.revues.org
SUMMARY:Droit et régulation des activités économiques
URL:https://calenda-formation.labocleo.org/195408
DESCRIPTION:L’objectif de cette manifestation est d’analyser comment le droit constitue un cadre contraignant autant qu’habilitant les modes de régulations des activités économiques. De manière alternative à une approche qui considère le droit comme exogène aux … @plus_info https://calenda-formation.labocleo.org/195408
LOCATION:Cachan
END:VEVENT
END:VCALENDAR
