BEGIN:VCALENDAR
VERSION:2.0
PRODID:-//https://calenda-formation.labocleo.org
X-WR-CALNAME:Calenda
X-WR-TIMEZONE:Europe/Paris
CALSCALE:GREGORIAN
X-WR-CALDESC:The calendar for arts, humanities and social sciences
METHOD:PUBLISH
BEGIN:VEVENT
DTSTART;VALUE=DATE:20080926
DTEND;VALUE=DATE:20080927
UID:195411-20080926@calenda.revues.org
SUMMARY:Sociologie du travail et enquêtes de terrain. Discussions autour de recherches récentes
URL:https://calenda-formation.labocleo.org/195411
DESCRIPTION:Dans le cadre de cette journée sur le travail artistique\, nous nous proposons de déplacer notre regard d’une sociologie des œuvres artistiques vers une sociologie du travail artistique. Nous aborderons des objets aussi divers que l’organisation de ce… @plus_info https://calenda-formation.labocleo.org/195411
LOCATION:Paris
END:VEVENT
END:VCALENDAR
