BEGIN:VCALENDAR
VERSION:2.0
PRODID:-//https://calenda-formation.labocleo.org
X-WR-CALNAME:Calenda
X-WR-TIMEZONE:Europe/Paris
CALSCALE:GREGORIAN
X-WR-CALDESC:Le calendrier des lettres et sciences humaines et sociales
METHOD:PUBLISH
BEGIN:VEVENT
DTSTART;VALUE=DATE:20081120
DTEND;VALUE=DATE:20081121
UID:195489-20081120@calenda.revues.org
SUMMARY:Ce que la précarité nous apprend de la société
URL:https://calenda-formation.labocleo.org/195489
DESCRIPTION:L’objectif central du colloque est de confronter les apports respectifs de la sociologie française et espagnole sur le thème de la précarité\, comprise au sens large. Il s’agit en effet de questionner\, à un niveau empirique et comparatif\, comment la p… Más informaciones https://calenda-formation.labocleo.org/195489
LOCATION:Nanterre
END:VEVENT
BEGIN:VEVENT
DTSTART;VALUE=DATE:20081121
DTEND;VALUE=DATE:20081122
UID:195489-20081121@calenda.revues.org
SUMMARY:Ce que la précarité nous apprend de la société
URL:https://calenda-formation.labocleo.org/195489
DESCRIPTION:L’objectif central du colloque est de confronter les apports respectifs de la sociologie française et espagnole sur le thème de la précarité\, comprise au sens large. Il s’agit en effet de questionner\, à un niveau empirique et comparatif\, comment la p… Más informaciones https://calenda-formation.labocleo.org/195489
LOCATION:Nanterre
END:VEVENT
END:VCALENDAR
