BEGIN:VCALENDAR
VERSION:2.0
PRODID:-//https://calenda-formation.labocleo.org
X-WR-CALNAME:Calenda
X-WR-TIMEZONE:Europe/Paris
CALSCALE:GREGORIAN
X-WR-CALDESC:Le calendrier des lettres et sciences humaines et sociales
METHOD:PUBLISH
BEGIN:VEVENT
DTSTART;VALUE=DATE:20081231
DTEND;VALUE=DATE:20090101
UID:195496-20081231@calenda.revues.org
SUMMARY:Appel à participation - Espace production des enseignants
URL:https://calenda-formation.labocleo.org/195496
DESCRIPTION:Afin de développer l’espace Production des enseignants\, qui prend place sur le site des ressources mutualisées de l’Agence universitaire de la Francophonie (AUF)\, nous cherchons à publier en ligne les travaux aboutis d’enseignants-chercheurs ou ceux … Weitere Informationen https://calenda-formation.labocleo.org/195496
LOCATION:
END:VEVENT
END:VCALENDAR
