BEGIN:VCALENDAR
VERSION:2.0
PRODID:-//https://calenda-formation.labocleo.org
X-WR-CALNAME:Calenda
X-WR-TIMEZONE:Europe/Paris
CALSCALE:GREGORIAN
X-WR-CALDESC:The calendar for arts, humanities and social sciences
METHOD:PUBLISH
BEGIN:VEVENT
DTSTART;VALUE=DATE:20081130
DTEND;VALUE=DATE:20081201
UID:195571-20081130@calenda.revues.org
SUMMARY:Écritures de soi en souffrance
URL:https://calenda-formation.labocleo.org/195571
DESCRIPTION:L’écriture de soi\, envisagée en tant que pratique auto formative\, étaye la possibilité d’interroger\, réfléchir et transformer l’expérience de la souffrance\, l’expérience subjective de la condition humaine\, par la prise de parole du sujet et le medium… @plus_info https://calenda-formation.labocleo.org/195571
LOCATION:
END:VEVENT
END:VCALENDAR
