BEGIN:VCALENDAR
VERSION:2.0
PRODID:-//https://calenda-formation.labocleo.org
X-WR-CALNAME:Calenda
X-WR-TIMEZONE:Europe/Paris
CALSCALE:GREGORIAN
X-WR-CALDESC:Le calendrier des lettres et sciences humaines et sociales
METHOD:PUBLISH
BEGIN:VEVENT
DTSTART;VALUE=DATE:20081216
DTEND;VALUE=DATE:20081217
UID:195587-20081216@calenda.revues.org
SUMMARY:Main-d'œuvre étrangère en Allemagne en temps de guerre. Perspective de genre
URL:https://calenda-formation.labocleo.org/195587
DESCRIPTION:Le 16 décembre 2008\, le CEGES organise le colloque « Foreign Labour in Wartime Germany: the Gender Perspective ». Par ce colloque\, le CEGES veut résolument ouvrir la question de la main-d'œuvre étrangère en Allemagne au cours des deux geurres mondial… Weitere Informationen https://calenda-formation.labocleo.org/195587
LOCATION:Brüssel
END:VEVENT
END:VCALENDAR
